BEGIN:VCALENDAR
VERSION:2.0
PRODID:Concurso - Prémio Literário Fausto José – Fonte Branca
X-WR-CALNAME:Concurso - Prémio Literário Fausto José – Fonte Branca
X-WR-TIMEZONE:Europe/Lisbon
X-PUBLISHED-TTL:P1W
BEGIN:VTIMEZONE
TZID:Europe/Lisbon
X-LIC-LOCATION:Europe/Lisbon
END:VTIMEZONE
BEGIN:VEVENT
UID:69e8a9455ce7b
DTSTART;VALUE=DATE:20260318
SEQUENCE:0
TRANSP:OPAQUE
DTEND;VALUE=DATE:20260319
SUMMARY:Concurso - Prémio Literário Fausto José – Fonte Branca
CLASS:PUBLIC
DESCRIPTION:O Prémio Literário Fausto José – Fonte Branca é uma inici
 ativa que distingue trabalhos nas áreas da poesia e do ensaio\, promovend
 o a criação literária e incentivando a reflexão em torno da obra e do 
 legado do poeta Fausto José.  Mais do que um concurso\, este prémio afir
 ma a literatura como um espaço de exigência\, pensamento e compromisso c
 om a palavra.  Quem pode participar  Podem participar autores com idade ig
 ual ou superior a 18 anos.     Prazo de candidaturas  As candidaturas est
 ão abertas até 31 de janeiro de 2027.     Avaliação  Os trabalhos ser
 ão avaliados por um júri independente\, nomeado pela Junta de Freguesia 
 de Aldeias\, tendo em conta critérios de qualidade literária\, originali
 dade e adequação ao espírito da obra de Fausto José.     Regulamento 
  A participação implica a aceitação integral do regulamento.     Con
 tactos  Junta de Freguesia de Aldeias  aldeiasjf@gmail.com
X-MICROSOFT-CDO-ALLDAYEVENT:TRUE
DTSTAMP:20260422T105605Z
END:VEVENT
END:VCALENDAR